BEGIN:VCALENDAR
VERSION:2.0
PRODID:-//KULTURGUTLEBEN - ECPv6.15.20//NONSGML v1.0//EN
CALSCALE:GREGORIAN
METHOD:PUBLISH
X-WR-CALNAME:KULTURGUTLEBEN
X-ORIGINAL-URL:https://kulturgutleben.de
X-WR-CALDESC:Veranstaltungen für KULTURGUTLEBEN
REFRESH-INTERVAL;VALUE=DURATION:PT1H
X-Robots-Tag:noindex
X-PUBLISHED-TTL:PT1H
BEGIN:VTIMEZONE
TZID:Europe/Berlin
BEGIN:DAYLIGHT
TZOFFSETFROM:+0100
TZOFFSETTO:+0200
TZNAME:CEST
DTSTART:20250330T010000
END:DAYLIGHT
BEGIN:STANDARD
TZOFFSETFROM:+0200
TZOFFSETTO:+0100
TZNAME:CET
DTSTART:20251026T010000
END:STANDARD
BEGIN:DAYLIGHT
TZOFFSETFROM:+0100
TZOFFSETTO:+0200
TZNAME:CEST
DTSTART:20260329T010000
END:DAYLIGHT
BEGIN:STANDARD
TZOFFSETFROM:+0200
TZOFFSETTO:+0100
TZNAME:CET
DTSTART:20261025T010000
END:STANDARD
BEGIN:DAYLIGHT
TZOFFSETFROM:+0100
TZOFFSETTO:+0200
TZNAME:CEST
DTSTART:20270328T010000
END:DAYLIGHT
BEGIN:STANDARD
TZOFFSETFROM:+0200
TZOFFSETTO:+0100
TZNAME:CET
DTSTART:20271031T010000
END:STANDARD
END:VTIMEZONE
BEGIN:VEVENT
DTSTART;TZID=Europe/Berlin:20260419T180000
DTEND;TZID=Europe/Berlin:20260425T120000
DTSTAMP:20260421T115311
CREATED:20260115T062713Z
LAST-MODIFIED:20260125T192834Z
UID:10000053-1776621600-1777118400@kulturgutleben.de
SUMMARY:Lailas Social Media Detox Retreat: »Verzauberter April«
DESCRIPTION:Feiern wir den Frühling – eine ebenso kunterbunte wie entspannt ruhige Auszeit erwartet Dich\n\n\n\nJa\, unser Retreat haben wir absichtlich nach dem großartigen Roman von Elizabeth von Arnim benannt: Diese Woche im KULTURGUTLEBEN steht unter dem Motto: sich von der Natur verzaubern zu lassen! \n\n\n\n„Es war der stillste Ort\, den sie je betreten hatte. […] Die steilen Wälder ringsum schwiegen. Die Villa schlief in der Sonne. Sie fühlte sich wie eine Figur\, die ein Märchenhaus betritt.“— Elizabeth von Arnim\, Verzauberter April \n\n\n\nEin solcher Ort darf sein – mitten im echten Leben. Ein Haus umgeben von Felder\, Wiesen\, Wäldern und Seen. Ein Frühling\, der still ruft. \n\n\n\nUnd manchmal – wie Lottie im Buch – sehe ich es schon\, bevor es geschieht:diese Person\, die ankommt\, sich umsieht\,die lächelt\, weil sie weiß – „Hier bin ich richtig“:Das bist Du! \n\n\n\nEine Woche voller Naturerlebnisse liegt vor Dir und wird Dich zum Staunen bringen. \n\n\n\nGenieße frische Tees\, hausgemachte Köstlichkeiten und die entspannte Atmosphäre unseres Gartens. \n\n\n\nAn einem Abend sitzen wir bei einem stimmungsvolles Lagerfeuer zusammen.  \n\n\n\nDu wirst aber auch Zeit nur für Dich haben: Nutze die Gelegenheit für Spaziergänge allein über unser Gelände und im nahegelegenen Wald. Frühlings-Vogelgezwitscher wird Dich begleiten. Du kannst so viel All-ein-Zeit wählen wie Du nötig hast\, aber auch auf Ausflügen die herrliche Umgebung mit mir erkunden. \n\n\n\nKläre in einem ersten Telefon mit mir\, was Du Dir von Deinem Verzauberten April erhoffst.  \n\n\n\n\n\n\n\n\nGehe zur Detailbeschreibung unten \n\n\n\n\nWas Du erhältst\n\n\n\nFolgende Leistungen sind im Preis enthalten: \n\n\n\n\nÜbernachtungen mit Vollpension\n\n\n\nTagesprogramm\n\n\n\nAlle Eintrittspreise\n\n\n\nAlle Materialien \n\n\n\nein Tagebuch zur Selbstreflexion\n\n\n\n\n\n\n\n\n\n\n\n\n\n\n\n\n\n\n\n\n\n\n\n\n\nAnreise\n\n\n\nDetaillierte Informationen zur Anreise findest Du unter Lage und Anreise. \n\n\n\n\n\n\n\n\n\nJetzt buchen\n\n\n\n\n\n\nAnmeldungen bis 14 Tage vor Anreise über unser Kontaktformular\, per E-Mail oder per Telefon. \n\n\n\n\n\n\n\n\n\n\n\nDetailbeschreibung der Veranstaltung\n\n\n\n\n\n\n\nWas Dich erwartet:Ein altes Haus mit Herz. Zeitlose Zimmer. Wald- und Wiesenspaziergänge.Tägliche Impulse – mal poetisch\, mal ganz praktisch.Gemeinsames Genießen. Stille Nachmittage. Lachen beim Abendbrot.Und vor allem: viel Raum. Für Dich. \n\n\n\nKein WLAN-Zwang. Kein Handyverbot.Aber eine liebevolle Einladung: Lass es doch im Zimmer oder gib die SIM-Karte ab.Was passiert\, wenn Du wieder mit echten Vögeln zwitscherst?Wenn Deine Augen nicht scrollen\, sondern sehen?Wenn der Frühling Dich anschaut – und Du zurücklächelst?Wer findet zu uns? \n\n\n\n🌸 Menschen\, die spüren\, dass sie gerade zu oft online sind \n\n\n\n🌸 Menschen mit Frühlingssehnsucht \n\n\n\n🌸 Kreative Seelen\, die mal wieder echte Inspiration atmen möchten \n\n\n\n🌸 Stille-Genießer:innen\, die sich nach Leichtigkeit sehnen \n\n\n\n🌸 Alle\, die dem April mit offenen Armen begegnen und sich seinem Zauber nicht entziehen wollen \n\n\n\nWas macht dieses Retreat besonders? \n\n\n\n🌿 sanfte Digital-Auszeit \n\n\n\n🌿 Anregung statt Überforderung \n\n\n\n🌿 inspirierende Gemeinschaft & viel Freiraum \n\n\n\n🌿 persönliche Begleitung durch Laila \n\n\n\n🌿 Natur pur – und ein Hauch Poesie \n\n\n\n\n\n\n\n\n\n\n\nDie vielen lauschigen Winkel des KUTURGUTLEBEN-Gartens laden jederzeit zum Verweilen und Seele-baumeln-lassen ein. Wir bereiten Dir z. B. ein gemütliches Lager aus Kissen und Decken auf unserer „Hollywood-Schaukel“ oder unserer Palettenbank\, wenn Du mal eine ruhige Zeit für Dich brauchst und die erste warme Sonne genießen willst. Natürlich inkl. Smoothie\, Tee und kleinem Imbiss. Hier kannst Du die Seele baumeln lassen. \n\n\n\nVielleicht ist es Dir ja sogar schon warm genug für ein Bad in einem der vielen Seen der Umgebung? Das entscheidest Du einfach vor Ort. \n\n\n\nLass Dich von der Magie des Frühlings verzaubern! \n\n\n\nAuf Wunsch lässt das Programm Raum und Zeit für individuelle Freizeitgestaltung\, zum Beispiel für die Entdeckung unserer wunderschönen Region. Frag uns gerne nach Sehenswürdigkeiten und unseren Geheimtipps für Ausflüge.Warum „Social Media Detox Retreat“? \n\n\n\nAlle Retreats unter dem Namen Lailas Social Media Detox Retreat laden Dich ein\, für eine Weile aus der digitalen Welt auszusteigen – nicht aus Ablehnung\, sondern aus Liebe zum echten Leben. In einer Zeit\, in der wir ständig erreichbar sind und uns oft über Bildschirme begegnen\, vergessen wir leicht\, wie kraftvoll und nährend reale Erfahrungen sind. Dieses Retreat schenkt Dir Raum für lebendige Augenblicke: Begegnungen von Herz zu Herz\, Abenteuer in der Natur\, Stille\, echtes Lachen\, das nicht dokumentiert werden muss. Du brauchst hier keine Likes\, kein Scrollen\, keine Filter – nur Dich selbst. Denn das\, was Du hier erlebst\, wird nicht nur Teil Deiner Erinnerung\, sondern Teil von Dir. Leuchtend. Echt. Unvergesslich.Unsere Retreats laden Dich ein\, wieder eins zu werden mit dem\, was jenseits der Bildschirme liegt: der Duft von feuchtem Waldboden\, das Glitzern eines Sees im Morgenlicht\, das Rascheln der Blätter über Dir. Die digitale Welt mag laut sein – doch hier hörst Du Dich selbst wieder. Wenn Du offline gehst\, öffnet sich Raum für echte Verbundenheit: mit Dir\, mit der Natur\, mit anderen Menschen.Hinweis:Alle Retreat-Formate unter Lailas Social Media Detox Retreat finden bereits ab einer einzigen Anmeldung statt. Du musst also nicht warten\, ob genug andere mitkommen – Du bist genug. \n\n\n\n\n\n\n\n\n\n\n\n\n\nZielgruppe\n\n\n\nDiese Veranstaltung eignet sich für Dich besonders gut\, wenn Du Dich in einem oder mehreren dieser Punkte wiederfindest: \n\n\n\n\nFrühlingssuchende und Naturliebhaber:innenmit einer Sehnsucht nach dem Erwachen der Natur\, dem Duft von Erde und Blüten\, der stillen Schönheit eines Gartens im April. Für alle\, die im Aufblühen der Landschaft auch einen inneren Neubeginn spüren.\n\n\n\nMenschen mit dem Wunsch nach digitaler Entlastungmit dem Bedürfnis\, das eigene Onlineverhalten zu hinterfragen oder bewusst zu unterbrechen – ohne Druck\, sondern mit liebevoller Einladung zur Rückverbindung mit dem Analogen\, dem Körper\, dem Hier und Jetzt.\n\n\n\nStillefreund:innen und Rückzugsreisendemit dem Wunsch nach einer Auszeit vom urbanen Rhythmus\, nach Einfachheit\, Langsamkeit und einem Ort\, an dem nichts muss\, aber vieles darf. Geeignet auch für hochsensible Menschen oder solche\, die sich leicht erschöpfen im Dauerrauschen der Welt.\n\n\n\nFreigeister und Tagträumer:innenmit Freude an Poesie\, alten Häusern\, kleinen Wundern\, dem Flanieren durch Frühlingslicht und Geschichten\, die leise anklopfen. Für alle\, die sich in literarischen Atmosphären zuhause fühlen – oder in einem Märchenzimmer wiederfinden möchten.\n\n\n\nMenschen\, die gern bei sich ankommenund dabei weder Programm noch Selbstoptimierung suchen\, sondern Raum. Raum für Tee. Für ein Gespräch. Für einen Spaziergang mit sich selbst. Für eine Woche\, die sich nicht nach Uhrzeit anfühlt\, sondern nach Atemzug.\n\n\n\n\n\n\n\n\n\n\nÜber die Veranstalter:innen\n\n\n\n\n\n\n\n\n\n\n\n\n\nMitgründerin von KULTURGUTLEBEN. Begleitet Menschen mit feinem Gespür\, herzlicher Präsenz und einem tiefen Verständnis für echte Lebensfreude auf dem Weg zu mehr Naturverbundenheit\, Wohlbefinden und innerer Balance. \n\n\n\n\n\n\n\n\n\n\n\n\n\n\n\n\nZurück zur Kurzbeschreibung \n\n\n\n\n\n\n\nJetzt buchen\n\n\n\n\n\n\nAnmeldungen bis 14 Tage vor Anreise über unser Kontaktformular\, per E-Mail oder per Telefon.
URL:https://kulturgutleben.de/termin/verzauberter-april-2026
LOCATION:KULTURGUTLEBEN\, Quadenschönfeld Bahnhof 1\, Möllenbeck\, Mecklenburg-Vorpommern\, 17237\, Deutschland
CATEGORIES:Retreat
ATTACH;FMTTYPE=image/jpeg:https://kulturgutleben.de/wp-content/uploads/2026/01/verzauberter-april-3.jpg
ORGANIZER;CN="Laila Mahfouz":MAILTO:post@kulturgutleben.de
END:VEVENT
END:VCALENDAR