BEGIN:VCALENDAR
VERSION:2.0
PRODID:-//KULTURGUTLEBEN - ECPv6.15.20//NONSGML v1.0//EN
CALSCALE:GREGORIAN
METHOD:PUBLISH
X-WR-CALNAME:KULTURGUTLEBEN
X-ORIGINAL-URL:https://kulturgutleben.de
X-WR-CALDESC:Veranstaltungen für KULTURGUTLEBEN
REFRESH-INTERVAL;VALUE=DURATION:PT1H
X-Robots-Tag:noindex
X-PUBLISHED-TTL:PT1H
BEGIN:VTIMEZONE
TZID:Europe/Berlin
BEGIN:DAYLIGHT
TZOFFSETFROM:+0100
TZOFFSETTO:+0200
TZNAME:CEST
DTSTART:20240331T010000
END:DAYLIGHT
BEGIN:STANDARD
TZOFFSETFROM:+0200
TZOFFSETTO:+0100
TZNAME:CET
DTSTART:20241027T010000
END:STANDARD
BEGIN:DAYLIGHT
TZOFFSETFROM:+0100
TZOFFSETTO:+0200
TZNAME:CEST
DTSTART:20250330T010000
END:DAYLIGHT
BEGIN:STANDARD
TZOFFSETFROM:+0200
TZOFFSETTO:+0100
TZNAME:CET
DTSTART:20251026T010000
END:STANDARD
BEGIN:DAYLIGHT
TZOFFSETFROM:+0100
TZOFFSETTO:+0200
TZNAME:CEST
DTSTART:20260329T010000
END:DAYLIGHT
BEGIN:STANDARD
TZOFFSETFROM:+0200
TZOFFSETTO:+0100
TZNAME:CET
DTSTART:20261025T010000
END:STANDARD
END:VTIMEZONE
BEGIN:VEVENT
DTSTART;TZID=Europe/Berlin:20250427T160000
DTEND;TZID=Europe/Berlin:20250501T140000
DTSTAMP:20260425T142832
CREATED:20241021T105624Z
LAST-MODIFIED:20250301T100839Z
UID:10000031-1745769600-1746108000@kulturgutleben.de
SUMMARY:Unsere bunte Frühlingsfestwoche
DESCRIPTION:Feiern wir den Frühling und lassen wir uns gemeinsam vom Zauber des Anfangs umfangen\n\n\n\nErlebe den Frühling in seiner vollen Pracht bei unserem Frühlingsfest im KULTURGUTLEBEN. Vier Tage voller Naturerlebnisse\, in denen wir gemeinsam die ersten Wildkräuter entdecken\, sammeln und verarbeiten. Genieße frische Tees\, hausgemachte Köstlichkeiten und die entspannte Atmosphäre unseres Gartens.  \n\n\n\nIn der Walpurgisnacht zelebrieren wir den keltischen Sommeranfang bei einem stimmungsvolles Lagerfeuer. Unsere Kräuterexpertinnen begleiten Dich mit ihrem Wissen und sorgen für inspirierende Momente. Nutze die Gelegenheit für Spaziergänge\, Vogelgezwitscher und unvergessliche Ausflüge in unsere wunderschöne Region. \n\n\n\n\n\n\n\n\nGehe zur Detailbeschreibung unten \n\n\n\n\nWas Du erhältst\n\n\n\nFolgende Leistungen sind im Preis enthalten: \n\n\n\n\nÜbernachtungen mit Vollpension\n\n\n\nAlle Eintrittspreise\n\n\n\nAlle Materialien für die Herstellung der Kräuterprodukte zum Mitnehmen\n\n\n\nGemeinsame Herstellung der Produkte\, mit gedruckter Anleitung zum Mitnehmen\n\n\n\n\n\n\n\n\n\n\n\n\n\n\n\n\n\n\n\n\n\n\n\n\n\nAnreise\n\n\n\nDetaillierte Informationen zur Anreise findest Du unter Lage und Anreise. \n\n\n\n\n\n\n\n\n\nJetzt buchen\n\n\n\n\n\n\nAnmeldungen bis 15. März 2025 über unser Kontaktformular\, per E-Mail oder per Telefon. \n\n\n\n\n\n\n\nDetailbeschreibung der Veranstaltung\n\n\n\n\n\n\n\nDer Winter ist vorbei. Feiern wir den Frühling und lassen wir uns gemeinsam vom Zauber des Anfangs umfangen – alles bricht auf\, dehnt sich mit den wärmenden Sonnenstrahlen aus – leuchtet! \n\n\n\nWir laden ein zu unserem Frühlingsfest – besonders intensive Tage in unserem KULTURGUTLEBEN. \n\n\n\nDie ersten Wildkräuter wollen entdeckt\, gepflückt\, probiert\, verarbeitet werden. Die ersten frischen Tees mit der Energie des Frühlings tun dem Körper und der Seele gut. Gemeinsam sammeln und verwerten wir etwas\, das jeder mitnehmen kann und selbst hergestellt hat. \n\n\n\nWas es jetzt alles zu entdecken gibt! Und wie sich die Natur schmückt – schmücken wir auch uns und unsere Tafel und feiern gemeinsam eine Walpurgisnacht und einen 1. Mai mit einem großen Lagerfeuer und vielen Köstlichkeiten aus der Natur um uns herum. \n\n\n\nSehnst Du Dich nach Spaziergängen in der Natur\, nach den Stimmen der Vögel\, dem Summen der Bienen und den Strahlen der Sonne? \n\n\n\nWir bieten Dir ein ganz besondere Tage mit Naturerlebnisse\, die Du Dir selbst schenken und als Retreat nutzen kannst. \n\n\n\n\n\n\n\nGemeinsam entdecken wir einheimische Heil- und Speisekräuter am Wegesrand und auch viele weitere Schätze der Natur. \n\n\n\nOb es die Frühlingsgöttin Ostara gegeben hat\, sei dahingestellt\, nach keltischem Kalender ist Beltane (Mai) der Sommeranfang. Und so bildet ein Abend am Lagerfeuer in der Walpurgisnacht zum 1. Mai einen der Höhepunkte.  \n\n\n\nAn diesen Frühlingstagen freuen sich unsere Kräuterexpertinnen\, die Gruppe zu führen\, Kräuterwissen zu vermitteln\, Deine Fragen zu beantworten und gemeinsam zu kochen. \n\n\n\nEbenso laden die vielen lauschigen Winkel des KUTURGUTLEBEN-Gartens jederzeit zum Verweilen und Seele-baumeln-lassen ein. \n\n\n\nLassen wir uns von der Magie des Frühlings verzaubern! \n\n\n\nDas Seminarprogramm lässt dabei auch noch ein wenig Raum und Zeit für individuelle Freizeitgestaltung\, zum Beispiel für die Entdeckung unserer wunderschönen Region. \n\n\n\nFrag uns gerne nach Sehenswürdigkeiten und unseren Geheimtipps für Ausflüge. \n\n\n\n\n\n\n\n\n\n\n\n\n\nZielgruppe\n\n\n\nDiese Veranstaltung eignet sich für Dich besonders gut\, wenn Du Dich in einem oder mehreren dieser Punkte wiederfindest: \n\n\n\n\nNatur- und Kräuterliebhaber*innen für Verbindung zur Natur\, Wissenserweiterung über Wildkräuter\, nachhaltige und umweltfreundliche Erlebnisse — mit Interesse an Heilpflanzen und Wildkräutern\, Freude am Sammeln und Verarbeiten von natürlichen Zutaten\, Wertschätzung für ökologische und regionale Produkte.\n\n\n\nWellness- und Retreat-Suchende für Entspannung\, Stressabbau\, Regeneration\, Zeit für sich selbst — mit Offenheit für Selbstfürsorge\, Interesse an ganzheitlichem Wohlbefinden\, Affinität zu Naturheilmitteln und entspannenden Aktivitäten wie Teegenuss und ruhigen Spaziergängen.\n\n\n\nErholungssuchende Städter für Rückzug aus dem hektischen Alltag\, Naturerlebnisse\, Entspannung — mit Bedürfnis nach Ruhe\, Neugier auf alternative Lebensstile\, Wunsch nach Auszeit in einer friedlichen\, naturnahen Umgebung.\n\n\n\nKulinarische Genießer*innen für Genuss von frischen\, regionalen und selbstgemachten Produkten\, Erlernen von neuen Rezepten und Zubereitungsmethoden — mit Wertschätzung für gutes Essen\, Interesse an der Zubereitung und Verarbeitung von frischen Kräutern\, Freude an gemeinschaftlichen Kochaktivitäten und Verkostungen\n\n\n\n\n\n\n\n\n\n\nÜber die Veranstalter:innen\n\n\n\n\n\n\n\n\n\n\n\n\n\nMitgründerin des KULTURGUTLEBEN und Expertin für Wohlbefinden und Lebensfreude.  \n\n\n\n\n\n\n\n\n\n\n\n\n\n\n\nJana Schäfer ist eine Frohnatur. Ob das von den vielen Kräutern ihres riesigen Bauerngartens herrührt? Die „Kräuterfee“ weiß nämlich ganz genau\, wogegen welches Kraut gewachsen ist und vermittelt dies gern auch in ihrem Luplower Garten. \n\n\n\n\n\n\n\n\n\n\nZurück zur Kurzbeschreibung \n\n\n\n\n\n\n\nJetzt buchen\n\n\n\n\n\n\nAnmeldungen bis 15. März 2025 über unser Kontaktformular\, per E-Mail oder per Telefon.
URL:https://kulturgutleben.de/termin/fruehlingsfestwoche-2025
LOCATION:KULTURGUTLEBEN\, Quadenschönfeld Bahnhof 1\, Möllenbeck\, Mecklenburg-Vorpommern\, 17237\, Deutschland
CATEGORIES:Retreat
ATTACH;FMTTYPE=image/jpeg:https://kulturgutleben.de/wp-content/uploads/2024/10/fruehlingsfestwoche-1-2025-1.jpg
ORGANIZER;CN="Jana Sch%C3%A4fer":MAILTO:info@kraeutersalat.de
END:VEVENT
BEGIN:VEVENT
DTSTART;TZID=Europe/Berlin:20250509T150000
DTEND;TZID=Europe/Berlin:20250511T110000
DTSTAMP:20260425T142832
CREATED:20241020T144621Z
LAST-MODIFIED:20241021T105248Z
UID:10000029-1746802800-1746961200@kulturgutleben.de
SUMMARY:Gemeinsame Zeit schenken: Kurzurlaub inkl. Tagesausflug - das perfekte Muttertagsgeschenk!
DESCRIPTION:Deine Mutter mit einem gemeinsamen Kurzurlaub in der Mecklenburgischen Seenplatte überraschen: Was für ein wunderbares Geschenk zum Muttertag!\n\n\n\nÜberrasche Deine Mutter mit einem Geschenk\, das Herz und Seele berührt: eine gemeinsame Auszeit in der Mecklenburgischen Seenplatte!  \n\n\n\nZwei Nächte im gemütlichen Doppelzimmer\, ein liebevolles Frühstück und ein individuell geplanter Tagesausflug – für unvergessliche Momente voller Lachen\, Entspannung und Nähe. Zeig Deiner Mutter\, wie wertvoll die gemeinsame Zeit ist\, und entdeckt zusammen die Schönheit der Natur.  \n\n\n\nEin Kurzurlaub\, der nicht nur Freude schenkt\, sondern Erinnerungen fürs Leben. \n\n\n\n\n\n\n\n\n\nWas Du erhältst\n\n\n\nEnthalten im Paket: \n\n\n\n\n2 Übernachtungen für zwei Personen im Doppelzimmer mit Frühstück\n\n\n\nEin geführter Tagesausflug ins Umland\, freie Auswahl aus vielen Möglichkeiten\, Klärung bei einem Vorgespräch vor der Buchung\n\n\n\n\nUnser KULTURGUTLEBEN wird Deine Mutter und Dich ebenso begeistern wie die herrliche Umgebung. \n\n\n\nDer angegebene Paketpreis gilt für 2 Personen in einem Doppelzimmer. Mehr Zimmer\, mehr Personen\, lieber ein Apartment? Sehr gerne erstellen wir für Dich ein individuelles Angebot. \n\n\n\n\n\n\n\n\n\n\n\n\n\n\n\n\n\n\n\n\n\n\n\n\nAnreise\n\n\n\nDetaillierte Informationen zur Anreise findest Du unter Lage und Anreise. \n\n\n\n\n\n\n\n\n\nJetzt buchen\n\n\n\n\n\n\nAnmeldungen bis spätestens 10. April 2025 über unser Kontaktformular\, per E-Mail oder per Telefon. \n\n\n\n\n\n\n\n\n\n\n\n\n\n\n\n\n\nÜber die Veranstalter:innen\n\n\n\n\n\n\n\n\n\n\n\n\n\nMitgründerin des KULTURGUTLEBEN und Expertin für Wohlbefinden und Lebensfreude.  \n\n\n\n\n\n\n\n\n\n\n\n\n\n\nJetzt buchen\n\n\n\n\n\n\nAnmeldungen bis spätestens 10. April 2025 über unser Kontaktformular\, per E-Mail oder per Telefon.
URL:https://kulturgutleben.de/termin/muttertag-2025
LOCATION:KULTURGUTLEBEN\, Quadenschönfeld Bahnhof 1\, Möllenbeck\, Mecklenburg-Vorpommern\, 17237\, Deutschland
CATEGORIES:Special
ATTACH;FMTTYPE=image/jpeg:https://kulturgutleben.de/wp-content/uploads/2024/10/muttertag-hero-2025-1.jpg
ORGANIZER;CN="Laila Mahfouz":MAILTO:post@kulturgutleben.de
END:VEVENT
BEGIN:VEVENT
DTSTART;TZID=Europe/Berlin:20250516T180000
DTEND;TZID=Europe/Berlin:20250519T120000
DTSTAMP:20260425T142832
CREATED:20250120T082505Z
LAST-MODIFIED:20250120T082622Z
UID:10000039-1747418400-1747656000@kulturgutleben.de
SUMMARY:Vogelbeobachtungen in der Mecklenburgischen Seenplatte
DESCRIPTION:Entdecke die Welt der Vögel – Ein unvergessliches Vogelbeobachtungswochenende\n\n\n\nEntdecke die faszinierende Welt der Vögel inmitten von Naturschutzgebieten\, dem Nationalpark Müritz und UNESCO-Weltnaturerbe-Buchenwäldern. \n\n\n\nGemeinsames Kochen in der Gästeküche oder eigenes Apartment (gegen Aufpreis) möglich.  \n\n\n\nOptional: Ferngläser leihweise verfügbar. Laila begleitet Dich je nach Möglichkeit gern auch zusätzlich zu den beiden geführten Ausflügen oder stattet Dich mit individuellen Tipps für eigene Erkundungen aus. \n\n\n\nMelde Dich an und erlebe ein unvergessliches Naturwochenende! \n\n\n\n\n\n\n\n\nGehe zur Detailbeschreibung unten \n\n\n\n\nWas Du erhältst\n\n\n\nFolgende Leistungen sind im Preis enthalten: \n\n\n\n\nDrei Übernachtungen (inkl. Handtücher und Bettwäsche) mit Frühstück\n\n\n\nEin Bestimmungsbuch der Vogelarten\n\n\n\nEine Liste der bisher am KULTURGUTLEBEN gesichteten über 70 Vogelarten\n\n\n\nZwei geführte Ausflüge in Wald und Flur\n\n\n\nEin Notizbuch für Deine eigenen Sichtungen\n\n\n\nAbschlussfeier am letzten Abend mit Grillen und gemütlichem Beisammensein am Lagerfeuer\n\n\n\nOptional: Ferngläser mit 10x Vergrößerung\, 42mm Objektiv und Smartphone-Adapter können auf Wunsch ausgeliehen werden (bitte bei der Buchung angeben)\n\n\n\nBei schlechtem Wetter steht ein gemütlicher Seminarraum zur Verfügung\n\n\n\n\n\n\n\n\n\n\n\n\n\n\n\n\n\n\n\n\n\n\n\n\n\nAnreise\n\n\n\nDetaillierte Informationen zur Anreise findest Du unter Lage und Anreise. \n\n\n\n\n\n\n\n\n\nJetzt buchen\n\n\n\n\n\n\nAnmeldungen bis 16. April 2025 über unser Kontaktformular\, per E-Mail oder per Telefon. \n\n\n\n\n\n\n\n\n\n\n\nDetailbeschreibung der Veranstaltung\n\n\n\n\n\n\n\nLiebst Du die Natur und beobachtest gern Vögel\, aber in Deiner Umgebung sind nur wenige Arten zu sehen? Hast Du noch nie einen Wiedehopf\, Kernbeißer oder eine Wacholderdrossel entdeckt und möchtest das ändern? Dann bist Du bei uns genau richtig!  \n\n\n\nRund um das KULTURGUTLEBEN erwartet Dich eine beeindruckende Vielfalt an Vogelarten. Unsere Umgebung bietet ausgedehnte Naturschutzgebiete\, Teile des Nationalparks Müritz und die faszinierenden UNESCO-Weltnaturerbe-Buchenwälder. \n\n\n\nWir laden Dich zu einem Wochenende voller unvergesslicher Naturerlebnisse und Vogelbeobachtungen ein – perfekt für alle\, die ihre Begeisterung für die Vogelwelt vertiefen oder neu entdecken möchten. \n\n\n\nDas gesamte Arrangement kostet 425 € pro Person und beinhaltet: \n\n\n\n\nZwei Übernachtungen im Doppel- oder Mehrbettzimmer (inkl. Handtücher und Bettwäsche) mit Frühstück\n\n\n\nEin Bestimmungsbuch der Vogelarten\n\n\n\nEine Liste der bisher am KULTURGUTLEBEN gesichteten über 35 Vogelarten\n\n\n\nZwei geführte Ausflüge in Wald und Flur\n\n\n\nEin Notizbuch für Deine eigenen Sichtungen\n\n\n\nAbschlussfeier am letzten Abend mit Grillen und gemütlichem Beisammensein am Lagerfeuer\n\n\n\n\nOptional: \n\n\n\n\nFerngläser mit 10x Vergrößerung\, 42mm Objektiv und Smartphone-Adapter können auf Wunsch ausgeliehen werden (bitte bei der Buchung angeben).\n\n\n\nBei schlechtem Wetter steht ein gemütlicher Seminarraum zur Verfügung.\n\n\n\n\n\n\n\n\nGemeinsam Kochen oder eigene Küche:Die Gästeküche steht allen zur Verfügung\, und wir kochen gemeinsam – die Unkosten teilen wir fair durch die Anzahl der Teilnehmenden. Wenn Du es lieber privat magst: Bei der Buchung eines Apartments (ab zwei Personen\, zzgl. 100 €) bekommst Du eine eigene Kochecke und einen Essbereich dazu. \n\n\n\nIndividuelle Tipps und Wanderungen:Laila begleitet Dich gern auf weiteren Wanderungen oder gibt Dir die besten Tipps\, wenn Du selbst die Umgebung erkunden möchtest. \n\n\n\n\n\n\n\n\n\n\n\n\n\nZielgruppe\n\n\n\nDiese Veranstaltung eignet sich für Dich besonders gut\, wenn Du Dich in einem oder mehreren dieser Punkte wiederfindest: \n\n\n\n\nNaturliebhaber\n\n\n\nVogelbeobachtungs-Enthusiasten\n\n\n\nHobby-Ornithologen\n\n\n\nMenschen\, die neue Vogelarten entdecken möchten\n\n\n\nRuhesuchende\, die Natur genießen wollen\n\n\n\nAnfänger in der Vogelbeobachtung\n\n\n\nErfahrene Naturbeobachter\, die neue Gebiete erkunden möchten\n\n\n\nReisende\, die einzigartige Naturerlebnisse suchen\n\n\n\nGruppen und Paare mit Interesse an Outdoor-Aktivitäten\n\n\n\nMenschen\, die entspannte Wochenenden mit Gleichgesinnten schätzen\n\n\n\n\n\n\n\n\n\n\nÜber die Veranstalter:innen\n\n\n\n\n\n\n\n\n\n\n\n\n\nMitgründerin des KULTURGUTLEBEN\, Naturliebhaberin und Expertin für Wohlbefinden und Lebensfreude. \n\n\n\n\n\n\n\n\n\n\nZurück zur Kurzbeschreibung \n\n\n\n\n\n\n\nJetzt buchen\n\n\n\n\n\n\nAnmeldungen bis 16. April 2025 über unser Kontaktformular\, per E-Mail oder per Telefon
URL:https://kulturgutleben.de/termin/vogelbeobachtungen-2025
LOCATION:KULTURGUTLEBEN\, Quadenschönfeld Bahnhof 1\, Möllenbeck\, Mecklenburg-Vorpommern\, 17237\, Deutschland
CATEGORIES:Retreat
ATTACH;FMTTYPE=image/jpeg:https://kulturgutleben.de/wp-content/uploads/2025/01/vogelbeobachtungen-2025-4.jpg
ORGANIZER;CN="Laila Mahfouz":MAILTO:post@kulturgutleben.de
END:VEVENT
BEGIN:VEVENT
DTSTART;TZID=Europe/Berlin:20250522T180000
DTEND;TZID=Europe/Berlin:20250525T120000
DTSTAMP:20260425T142832
CREATED:20241013T164421Z
LAST-MODIFIED:20241013T165059Z
UID:10000026-1747936800-1748174400@kulturgutleben.de
SUMMARY:Resilienz EIN statt Burn OUT: Natur-Retreat mit Wald-Coach Petra Dittmar
DESCRIPTION:Entdecke die Heilkraft der Natur: Ein Wegweiser für mehr Widerstandskraft und Lebensfreude.\n\n\n\nFühlst auch Du Dich gestresst oder ausgelaugt? Millionen von Menschen kämpfen mit Schlafproblemen\, Burn-out und ähnlichen Herausforderungen. \n\n\n\nUnser einzigartiges Natur-Resilienztraining nutzt die bewiesenen Wohltaten des Waldes für Ihre Gesundheit. \n\n\n\nErlebe\, wie das Eintauchen in die Waldatmosphäre nicht nur Deine Körper stärkt\, sondern auch Deine Seele beruhigt und Deinen Geist belebt. \n\n\n\n\n\n\n\n\nGehe zur Detailbeschreibung unten \n\n\n\n\nWas Du erhältst\n\n\n\n\nKurs-Angebot während der angegebenen Kurszeiten (Ca.-Angaben)\, siehe Detailbeschreibung unten für mehr Infos\n\n\n\nSchriftliche Informationen und Begleitbüchlein\n\n\n\nje nach Wunsch abends Lagerfeuer und Singen\n\n\n\nsowie offene Arme und eine Welle Empathie von Petra (Wald-Coach)\, Laila und Anders (Kulturgutleben).\n\n\n\n\n\n\n\n\n\n\n\n\n\n\n\n\n\n\n\n\n\n\n\n\n\nAnreise\n\n\n\nDetaillierte Informationen zur Anreise findest Du unter Lage und Anreise. \n\n\n\n\n\n\n\n\n\nJetzt buchen\n\n\n\n\n\n\nAnmeldungen bis 1. April 2025 über unser Kontaktformular oder bei weiteren Fragen direkt bei der Retreat-Veranstalterin Petra Dittmar unter www.wald-coach.de/angebote-termine/natur-retreat \n\n\n\n\n\n\n\nDetailbeschreibung der Veranstaltung\n\n\n\n\n\n\n\nEntdecke die Heilkraft der Natur: Ein Wegweiser für mehr Widerstandskraft und Lebensfreude\n\n\n\nFühlst auch Du Dich gestresst oder ausgelaugt? Millionen von Menschen kämpfen mit Schlafproblemen\, Burn-out und ähnlichen Herausforderungen. \n\n\n\nUnser einzigartiges Natur-Resilienztraining nutzt die bewiesenen Wohltaten des Waldes für Ihre Gesundheit. \n\n\n\nErlebe\, wie das Eintauchen in die Waldatmosphäre nicht nur Deine Körper stärkt\, sondern auch Deine Seele beruhigt und Deinen Geist belebt. \n\n\n\nAn unserem langen Wochenende im Grünen erwarten Dich u.a.: \n\n\n\n\nGemeinsames Singen am Feuer\n\n\n\nRituale zum Loslassen und für innere Stärke uvm.\n\n\n\nKraftorte zum Öffnen der Sinne und Kontakt mit sich selbst\n\n\n\nWahrnehmungs- und Achtsamkeitserfahrungen\n\n\n\nNatur-Meditationen zur Aktivierung der Selbstheilungskräfte\n\n\n\nGeschichten und Phantasiereisen in der Natur (Imaginationen)\n\n\n\n\n\n\n\n\n\n\n\n\n\n\n\n\nDu kannst Deinen Resilienz-Status ermitteln und erfahren\, welche Deiner Lebensbereiche sich über etwas mehr Aufmerksamkeit freuen würden. Lass Dich sowohl von wissenschaftlich Fundiertem als auch von der natürlichen Spiritualität begeistern. \n\n\n\nDas Seminar richtet sich alle\, die ihr Wohlbefinden und ihre Arbeitsfreude bis ins hohe Alter erhalten möchten. In kleinen Gruppen reflektierst Du Erfahrungen und lernst\, Stress zu bewältigen\, Dein Selbstbewusstsein zu stärken und achtsam mit Dir umzugehen. \n\n\n\nIm Ergebnis nimmst Du nicht nur neue Fähigkeiten mit\, sondern auch ein Teilnahmezertifikat und ein Handout für Deinen anhaltenden Erfolg. \n\n\n\n\n\n\n\n\n\n\n\n\n\n\n\nNutze die Gelegenheit\, Dich selbst neu zu entdecken und Deine natürlichen Schutzkräfte zu mobilisieren. Lass uns gemeinsam auf eine Reise gehen\, die Dein biologisches und seelisches Immunsystem stärkt und Dich zu einem gesunden\, harmonischen Lebensstil führt. \n\n\n\nBist Du in Führungsverantwortung? Dann ist dieses Seminar evtl. für Deine Kolleginnen und Kollegen\, die ihre Resilienz verbessern möchten\, bestens geeignet. Sprich uns gern für weitere Informationen an. \n\n\n\nHier im KULTURGUTLEBEN leitet Wald-Coach Petra Dittmar dieses Wochenende\, das Dein Leben verändern könnte.\n\n\n\n\n\n\n\n\n\nZielgruppe\n\n\n\nDiese Veranstaltung ist besonders gut geeignet für Dich\, wenn mehrere der unten genannten Punkte auf Dich zutreffen: \n\n\n\n\nBerufstätige mit hoher Stressbelastung: Führungskräfte\, Mitarbeiter in sozialen Berufen\, Selbstständige und Unternehmer\n\n\n\nPersonen mit Burn-out oder Burn-out-Gefährdung: Menschen in helfenden Berufen\, Personen mit belastenden Lebenssituationen\n\n\n\nMenschen mit Schlafproblemen oder Erschöpfungszuständen: Personen mit chronischen Schlafstörungen\, Menschen mit allgemeiner Erschöpfung\n\n\n\nNaturliebhaber und Outdoor-Enthusiasten: Wanderer und Naturfreunde sowie Personen\, die eine starke Verbindung zur Natur suchen\n\n\n\nMenschen mit Interesse an Achtsamkeit und Meditation: Yoga- und Meditationspraktizierende\, Personen\, die Achtsamkeitstechniken erlernen möchten\n\n\n\nPersonen\, die ihre Selbstheilungskräfte aktivieren möchten: Menschen mit Interesse an alternativen Heilmethoden sowie Personen\, die natürliche Heilmethoden bevorzugen\n\n\n\nMenschen auf der Suche nach persönlicher Weiterentwicklung: Personen\, die ihre Resilienz stärken wollen sowie Menschen\, die Klarheit für ihre Lebensfragen suchen\n\n\n\nGruppen und Teams: Unternehmen\, die ihre Mitarbeiter stärken möchten sowie Teams\, die gemeinsam an Resilienz und Wohlbefinden arbeiten wollen\n\n\n\nMenschen in Lebensübergängen: Personen\, die vor großen Lebensentscheidungen stehen sowie Menschen\, die sich in einer Phase der Neuorientierung befinden\n\n\n\nSenioren und Personen mittleren Alters: Menschen\, die ihr Wohlbefinden bis ins hohe Alter erhalten möchten sowie Senioren\, die aktiv und gesund bleiben wollen\n\n\n\n\n\n\n\n\n\n\nÜber die Veranstalter:innen\n\n\n\n\n\n\n\n\n\n\n\n\n\n\n\n\n\n\n\n\n\n\n\n\n\n\n\n\n\n\n\n\n\n\n\n\n\n\n\n\n\n\n\n\nZurück zur Kurzbeschreibung \n\n\n\n\n\n\n\nJetzt buchen\n\n\n\n\n\n\nAnmeldungen bis 1. April 2025 über unser Kontaktformular oder bei weiteren Fragen direkt bei der Retreat-Veranstalterin Petra Dittmar unter www.wald-coach.de/angebote-termine/natur-retreat
URL:https://kulturgutleben.de/termin/resilienz-ein-statt-burn-out-mai-2025
LOCATION:KULTURGUTLEBEN\, Quadenschönfeld Bahnhof 1\, Möllenbeck\, Mecklenburg-Vorpommern\, 17237\, Deutschland
CATEGORIES:Retreat
ATTACH;FMTTYPE=image/jpeg:https://kulturgutleben.de/wp-content/uploads/2024/10/natur-retreat-mai-2025-1.jpg
ORGANIZER;CN="Laila Mahfouz":MAILTO:post@kulturgutleben.de
END:VEVENT
END:VCALENDAR