BEGIN:VCALENDAR
VERSION:2.0
PRODID:-//KULTURGUTLEBEN - ECPv6.15.20//NONSGML v1.0//EN
CALSCALE:GREGORIAN
METHOD:PUBLISH
X-ORIGINAL-URL:https://kulturgutleben.de
X-WR-CALDESC:Veranstaltungen für KULTURGUTLEBEN
REFRESH-INTERVAL;VALUE=DURATION:PT1H
X-Robots-Tag:noindex
X-PUBLISHED-TTL:PT1H
BEGIN:VTIMEZONE
TZID:Europe/Berlin
BEGIN:DAYLIGHT
TZOFFSETFROM:+0100
TZOFFSETTO:+0200
TZNAME:CEST
DTSTART:20240331T010000
END:DAYLIGHT
BEGIN:STANDARD
TZOFFSETFROM:+0200
TZOFFSETTO:+0100
TZNAME:CET
DTSTART:20241027T010000
END:STANDARD
BEGIN:DAYLIGHT
TZOFFSETFROM:+0100
TZOFFSETTO:+0200
TZNAME:CEST
DTSTART:20250330T010000
END:DAYLIGHT
BEGIN:STANDARD
TZOFFSETFROM:+0200
TZOFFSETTO:+0100
TZNAME:CET
DTSTART:20251026T010000
END:STANDARD
BEGIN:DAYLIGHT
TZOFFSETFROM:+0100
TZOFFSETTO:+0200
TZNAME:CEST
DTSTART:20260329T010000
END:DAYLIGHT
BEGIN:STANDARD
TZOFFSETFROM:+0200
TZOFFSETTO:+0100
TZNAME:CET
DTSTART:20261025T010000
END:STANDARD
END:VTIMEZONE
BEGIN:VEVENT
DTSTART;TZID=Europe/Berlin:20250727T180000
DTEND;TZID=Europe/Berlin:20250803T140000
DTSTAMP:20260423T191649
CREATED:20250121T123403Z
LAST-MODIFIED:20250211T090727Z
UID:10000041-1753639200-1754229600@kulturgutleben.de
SUMMARY:»Einfach sein«-Retreat: Entdecken\, erfahren\, entspannen\, genießen\, einfach sein
DESCRIPTION:»Einfach sein« – Dein Rückzugsort für Entspannung und Inspiration\n\n\n\nErlebe den Möglichkeitsraum von KULTURGUTLEBEN: ein Sommer-Retreat voller Freiheit\, Gemeinschaft und Naturverbundenheit. Für bis zu zwei Wochen kannst Du abschalten\, aufatmen und in einer friedvollen Umgebung neue Perspektiven gewinnen. Alles darf\, nichts muss – ob meditieren\, musizieren\, die Natur genießen oder mit anderen Menschen ins Gespräch kommen. Lass Deinen Alltag hinter Dir und finde zurück zu Dir selbst. \n\n\n\n\n\n\n\n\nGehe zur Detailbeschreibung unten \n\n\n\n\nWas Du erhältst\n\n\n\nFolgende Leistungen sind im Preis enthalten: \n\n\n\n\nUnterkunft: 7 Übernachtungen mit Frühstück im Doppel-/Zweibettzimmer oder Apartment (Einzelnutzung optional mit Aufschlag).\n\n\n\nVerpflegung: Zwei Abendessen inklusive.\n\n\n\nFreizeitmöglichkeiten: Zugang zu allen Programmen wie Meditation\, Gartenarbeit\, Lagerfeuer\, Musizieren und mehr.\n\n\n\nExklusive Extras: Zwei Bücher aus unserem „Möglichkeitsraum“\, ein persönliches Tagebuch und ein Traumtagebuch.\n\n\n\nIndividuelle Gestaltung: Flexibler Tagesablauf und optionale Ausflüge (gegen Unkostenbeteiligung).\n\n\n\nAnreise: Organisiere Deine Anreise selbst; wir holen Dich nach Absprache gerne von nahegelegenen Bahnhöfen ab.\n\n\n\n\n\n\n\n\n\n\n\n\n\n\n\n\n\n\n\n\n\n\n\n\n\nAnreise\n\n\n\nDetaillierte Informationen zur Anreise findest Du unter Lage und Anreise. \n\n\n\n\n\n\n\n\n\nJetzt buchen\n\n\n\n\n\n\nAnmeldungen bis 3. Juli 2025 über unser Kontaktformular\, per E-Mail oder per Telefon. \n\n\n\n\n\n\n\n\n\n\n\nDetailbeschreibung der Veranstaltung\n\n\n\n\n\n\n\nEinfach Sein – Entdecken\, Erfahren\, Entspannen\, Genießen\n\n\n\nErlebe unser einzigartiges Sommer-Retreat „Einfach sein – alles darf\, nichts muss“. Eine Woche lang öffnet das paradiesische KULTURGUTLEBEN seine Türen\, um Dir einen geschützten Raum für friedliche Gemeinschaft\, Selbsterfahrung und Naturverbundenheit zu bieten. Hier kannst Du Deinen Alltag hinter Dir lassen\, Dich treiben lassen und Deinen inneren Akku in einem inspirierenden Umfeld wieder aufladen. Alles darf\, nichts muss – das ist unser Versprechen. Finde hier den Platz\, der Dir erlaubt\, ganz Du selbst zu sein. \n\n\n\nFreiheit in der Gemeinschaft\n\n\n\nWie wäre es\, den Tag ganz nach Deinem Geschmack zu gestalten? Ob Du meditieren\, schwimmen\, lesen oder im Garten tätig sein möchtest – alles ist möglich. Vielleicht probierst Du ein Musikinstrument aus oder erkundest die spannenden Ecken des KULTURGUTLEBEN. Abends kannst Du bei einem gemütlichen Lagerfeuer entspannen\, Dich in Gespräche vertiefen oder einfach nur die Flammen tanzen sehen. \n\n\n\n\n„Oh\, eine Gitarre! Das wollte ich schon immer mal ausprobieren. Und was ist das?“„Das ist eine Handpan – hör mal\, wie sphärisch sie klingt!“„Wow\, darf ich auch mal?“„Na klar\, gerne!“ \n\n\n\n\n\n\n\n\nNatur erleben\, Freiheit spüren\n\n\n\nDie Natur rund um KULTURGUTLEBEN bietet Dir einen Rückzugsort für Körper und Geist. Lass Dich von der Stille inspirieren oder entdecke die Umgebung bei einem Spaziergang. Wenn Du möchtest\, kannst Du Dich sogar von der digitalen Welt entkoppeln und das einfache Sein genießen. Vielleicht entdeckst Du dabei ganz neue Seiten an Dir selbst. \n\n\n\n\n„Hat jemand Lust\, früh morgens an einen Badeplatz zu gehen? Es ist so schön friedlich um diese Zeit.“„Ich bin dabei! Gestern habe ich dort Rehe gesehen – es war magisch.“ \n\n\n\n\nNachhaltigkeit und Achtsamkeit\n\n\n\nUnsere Gemeinschaft basiert auf gegenseitigem Respekt und Achtsamkeit. Frei nach dem Motto von Oliver Wendell Holmes: „Das Recht\, meine Faust zu schwingen\, endet\, wo die Nase des anderen beginnt.“ Gemeinsam schaffen wir einen Raum\, der Dich inspiriert und bereichert – ein Ort\, den Du mit neuen Ideen\, Kraft und einem Lächeln im Herzen wieder verlässt. \n\n\n\n\n„Wow\, eine Staffelei! Habt Ihr auch Farben?“„Natürlich\, such Dir einfach aus\, was Du brauchst. Magst Du draußen malen?“„Ja\, das Licht hier ist so besonders.“ \n\n\n\n\n\n\n\n\nWissenschaftliche Erkenntnisse zu den Auswirkungen von Retreats auf das Wohlbefinden\n\n\n\n1. Stressreduktion und Entspannung\n\n\n\nMehrere Studien belegen\, dass Retreats – insbesondere solche in naturnahen Umgebungen – signifikant zur Reduktion von Stress beitragen können. Die Kombination aus Ruhe\, Naturverbundenheit und gezielten Aktivitäten wie Meditation oder Achtsamkeitsübungen wirkt direkt auf das autonome Nervensystem\, indem sie den Parasympathikus aktiviert. Dadurch sinken die Stresshormone Cortisol und Adrenalin\, während das Wohlfühlhormon Serotonin steigt.Referenz: Tang\, Y.-Y.\, et al. (2015). „The neuroscience of mindfulness meditation.“ Nature Reviews Neuroscience. \n\n\n\n2. Steigerung des psychischen Wohlbefindens\n\n\n\nRetreats schaffen eine sichere Umgebung\, in der Menschen aus ihrem Alltag aussteigen und sich auf Selbsterfahrung konzentrieren können. Diese Auszeiten fördern eine tiefere Reflexion und erhöhen die psychische Resilienz\, indem sie Menschen helfen\, persönliche Herausforderungen besser zu bewältigen. Die Möglichkeit\, „alles darf\, nichts muss“ zu erleben\, reduziert Leistungsdruck und fördert positive Emotionen wie Freude und Gelassenheit.Referenz: Schanche\, E.\, et al. (2011). „The experiential avoidance model of depressive relapse.“ Clinical Psychology Review. \n\n\n\n\n\n\n\n3. Förderung sozialer Verbundenheit\n\n\n\nGemeinschaftliche Aktivitäten wie Kochen\, Lagerfeuer oder gemeinsame Naturerlebnisse stärken das Gefühl sozialer Zugehörigkeit und Akzeptanz. Laut der Self-Determination Theory von Deci und Ryan sind Autonomie\, Kompetenz und soziale Eingebundenheit grundlegende psychologische Bedürfnisse\, deren Erfüllung das Wohlbefinden steigert. In Retreats können diese Bedürfnisse in entspannter Atmosphäre erfüllt werden.Referenz: Ryan\, R. M.\, & Deci\, E. L. (2000). „Self-determination theory and the facilitation of intrinsic motivation\, social development\, and well-being.“ American Psychologist. \n\n\n\n4. Verbesserung der Achtsamkeit und Selbstwahrnehmung\n\n\n\nRetreats\, die in ruhiger Umgebung stattfinden und Freiraum für Achtsamkeitspraktiken bieten\, fördern die Fähigkeit\, im Moment präsent zu sein. Dies wirkt sich nachweislich positiv auf das emotionale Wohlbefinden aus und stärkt die Selbstwahrnehmung. Teilnehmer berichten oft von einem „neuen Zugang“ zu sich selbst\, was die Zufriedenheit mit dem eigenen Leben steigern kann.Referenz: Kabat-Zinn\, J. (1990). „Full catastrophe living: Using the wisdom of your body and mind to face stress\, pain\, and illness.“ \n\n\n\n5. Positive Auswirkungen der Naturverbundenheit\n\n\n\nDer Aufenthalt in der Natur\, wie er im Retreat angeboten wird\, unterstützt nachweislich die mentale Gesundheit. Studien zeigen\, dass schon kurze Aufenthalte in der Natur das Gefühl der Verbundenheit mit der Umwelt fördern und Symptome von Angst und Depression lindern können.Referenz: Bratman\, G. N.\, et al. (2015). „The benefits of nature experience: Improved affect and cognition.“ Landscape and Urban Planning. \n\n\n\n\n\n\n\n6. Langfristige Effekte auf das Wohlbefinden\n\n\n\nRetreats bieten oft transformative Erfahrungen\, die nicht nur während der Veranstaltung selbst\, sondern auch langfristig positiv nachwirken. Die Kombination aus Reflexion\, Entspannung und inspirierenden Begegnungen kann zu einem anhaltenden Gefühl von Gelassenheit und gesteigerter Lebensfreude führen.Referenz: Montero-Marin\, J.\, et al. (2016). „A mindfulness retreat program reduces stress and improves psychological well-being in a healthy sample.“ Psychoneuroendocrinology. \n\n\n\nZusammenfassung der zu erwartenden Effekte\n\n\n\nTeilnehmer:innen des Retreats „Einfach sein“ dürfen erwarten: \n\n\n\n\neine spürbare Reduktion von Stress\,\n\n\n\neine Verbesserung der psychischen Resilienz und Zufriedenheit\,\n\n\n\ndas Gefühl tiefer sozialer Verbundenheit\,\n\n\n\neine gesteigerte Selbstwahrnehmung und Achtsamkeit\,\n\n\n\neine nachhaltige Verbesserung der Lebensqualität durch Naturerfahrung und Reflexion.\n\n\n\n\nDiese Erkenntnisse basieren auf wissenschaftlichen Studien und legen nahe\, dass das Retreat ein ideales Umfeld bietet\, um Körper\, Geist und Seele in Einklang zu bringen. \n\n\n\n\n\n\n\n\n\nZielgruppe\n\n\n\nDiese Veranstaltung eignet sich für Dich besonders gut\, wenn Du Dich in einem oder mehreren dieser Punkte wiederfindest: \n\n\n\n\nMenschen mit hoher beruflicher Belastung\, die eine Auszeit suchen\n\n\n\nPersonen in Lebensphasen des Wandels oder Umbruchs\n\n\n\nNatur- und Stilleliebhaber:innen\n\n\n\nKünstler:innen\, Musiker:innen und Autor:innen auf der Suche nach Inspiration\n\n\n\nAchtsamkeitspraktizierende\, Anfänger:innen und Fortgeschrittene\n\n\n\nMenschen\, die neue soziale Verbindungen in urteilsfreier Gemeinschaft suchen\n\n\n\nPersönlichkeitsentwickler:innen\, die sich reflektieren und neu ausrichten möchten\n\n\n\nPaare oder Freundesgruppen\, die gemeinsame Erlebnisse und individuelle Auszeiten kombinieren möchten\n\n\n\nHochsensible Personen\, die eine ruhige und achtsame Umgebung schätzen\n\n\n\nMenschen\, die offen für neue Erfahrungen und spontane Entdeckungen sind\n\n\n\nPersonen\, die digitale Entgiftung erleben und abschalten möchten\n\n\n\nIndividuen\, die Freiheit und Selbsterfahrung in einem geschützten Rahmen suchen\n\n\n\n\n\n\n\n\n\n\nÜber die Veranstalter:innen\n\n\n\n\n\n\n\n\n\n\n\n\n\nMitgründerin des KULTURGUTLEBEN und Expertin für Wohlbefinden und Lebensfreude.  \n\n\n\n\n\n\n\n\n\n\n\n\n\n\n\nMitgründer des KULTURGUTLEBEN und Experte für persönliche Entwicklung und Erkenntnisvermittlung über eigene Erfahrungen. \n\n\n\n\n\n\n\n\n\n\nZurück zur Kurzbeschreibung \n\n\n\n\n\n\n\nJetzt buchen\n\n\n\n\n\n\nAnmeldungen bis 3. Juli 2025 über unser Kontaktformular\, per E-Mail oder per Telefon
URL:https://kulturgutleben.de/termin/einfach-sein-retreat-entdecken-erfahren-entspannen-geniessen-einfach-sein
LOCATION:KULTURGUTLEBEN\, Quadenschönfeld Bahnhof 1\, Möllenbeck\, Mecklenburg-Vorpommern\, 17237\, Deutschland
CATEGORIES:Retreat
ATTACH;FMTTYPE=image/jpeg:https://kulturgutleben.de/wp-content/uploads/2025/01/einfach-sein-2025-6-1.jpg
ORGANIZER;CN="Anders Balari":MAILTO:balari@pm.me
END:VEVENT
BEGIN:VEVENT
DTSTART;TZID=Europe/Berlin:20250831T180000
DTEND;TZID=Europe/Berlin:20250907T160000
DTSTAMP:20260423T191649
CREATED:20240809T145240Z
LAST-MODIFIED:20241013T165606Z
UID:10000011-1756663200-1757260800@kulturgutleben.de
SUMMARY:NIKSEN-Retreat: Müßiggang zur Erholung und Inspiration
DESCRIPTION:Tauche ein in die Kunst des Nichtstuns und finde neue Kraft im NIKSEN-Retreat\n\n\n\nIn einer Welt\, die von Geschäftigkeit und ständiger Erreichbarkeit geprägt ist\, bietet das NIKSEN-Retreat eine Oase der Ruhe und des bewussten Innehaltens. Es geht darum\, sich eine Auszeit zu gönnen\, um zu entspannen und seine Gedanken frei schweifen zu lassen\, ohne dabei produktiv sein zu müssen. \n\n\n\n\n\n\n\n\nGehe zur Detailbeschreibung unten \n\n\n\n\nWas Du erhältst\n\n\n\nFolgende Inhalte sind im Preis enthalten: \n\n\n\n\n7 Übernachtungen mit Vollpension\n\n\n\nKomplettes Tagesprogramm\n\n\n\n1 Tagebuch\n\n\n\n1 Traumtagebuch\n\n\n\n1 Ratgeberbuch\, um NIKSEN in Deinen Alltag zu integrieren\n\n\n\n\n\n\n\n\n\n\n\n\n\n\n\n\n\n\n\n\n\n\n\n\n\nAnreise\n\n\n\nDetaillierte Informationen zur Anreise findest Du unter Lage und Anreise. \n\n\n\n\n\n\n\n\n\nJetzt buchen\n\n\n\n\n\n\nAnmeldungen bis 18. August 2025 über unser Kontaktformular\, per E-Mail oder per Telefon. \n\n\n\n\n\n\n\nDetailbeschreibung der Veranstaltung\n\n\n\n\n\n\n\nIn einer Welt\, die von Geschäftigkeit und ständiger Erreichbarkeit geprägt ist\, bietet das NIKSEN-Retreat eine Oase der Ruhe und des bewussten Innehaltens. Niksen\, ein niederländisches Konzept\, das wörtlich „nichts tun“ bedeutet\, ist die Praxis des bewussten Zeitverbringens ohne ein bestimmtes Ziel. Es geht darum\, sich eine Auszeit zu gönnen\, um zu entspannen und seine Gedanken frei schweifen zu lassen\, ohne dabei produktiv sein zu müssen. \n\n\n\nDer Unterschied zu unserem “Einfach sein”-Retreat: beim NIKSEN-Retreat musst Du keinerlei Entscheidungen treffen\, alles ist geregelt\, Du musst Dich um nichts kümmern\, keine Ziele setzen oder erreichen. \n\n\n\nEs wir hier Zeiten geben\, in denen wir gemeinsam baden oder spazieren gehen und Zeiten\, in denen wir bewusst\, einfach nur die Zeit\, die Natur und das Leben genießen – ohne die Verpflichtung\, auch nur einen Finger zu rühren. \n\n\n\nNIKSEN ist alles zusammen und die Italiener wussten das schon lange vorher\, denn ja\, DOLCE FAR NIENTE\, oh\, ja\, wie süß ist das Nichtstun! Und wie kraftvoll es ist! So werden wir gestärkt aus dieser Zeit hervorgehen wie ein Phönix aus der Asche nach dem letzten Abend am Lagerfeuer bereit sein\, uns wieder unserem Alltag zu stellen und ihn mit Freuden kraftvoll zu meistern. \n\n\n\nNIKSEN ist nicht nur eine Pause vom Alltag\, sondern eine Feier des Lebens\, die Ruhe und Genuss in den Vordergrund stellt. \n\n\n\n\n\n\n\nWeitere Erklärung zum Inhalt der Woche und zum Ablauf\n\n\n\nBitte bringt auch festes Schuhwerk und eine warme Jacke mit\, weil manche mögliche Unternehmungen dies erforderlich machen. Falls Interesse besteht\, wäre Baden in einem der vielen Seen der Umgebung möglich – vergesst Euer Badezeug und evt. ein großes Badehandtuch nicht. \n\n\n\nWas ist denn NIKSEN eigentlich wirklich? Das niederländische Wort entspricht dem italienischen Lebensgefühls Dolce far niente (=„süßes Nichtstun“). Das klingt vielleicht einfach\, allerdings kennen alle\, die in den vielen Aufgaben\, Nachrichten und Verpflichtungen feststecken\, das Gefühl\, sich im Kreis zu drehen ohne vorwärts zu kommen. Im Zustand des Hamsters im Rad ist kaum Spielraum für Kreativität oder Gelassenheit. Die Energie wird geradezu herausgezogen und die Produktivität stagniert.  \n\n\n\nBei uns bedeutet diese Woche NICHTSTUN nicht\, dass Du einfach nur in der Hängematte liegst\, obwohl auch solche Zeiten ganz konkret eingeplant sind. Vielmehr geht es bei uns darum\, dass Du KEINERLEI Entscheidungen treffen musst. Im Vorfeld teilst Du uns mit\, was Du nicht isst oder gern essen möchtest und dann triffst Du keine Entscheidungen mehr\, ab dem Moment der Ankunft im KULTURGUTLEBEN. Du lässt Dich einfach Fallen\, genießt es\, einmal nicht verantwortlich zu sein\, dass irgendetwas passiert.  \n\n\n\nAm besten gibst Du Dein Smartphone ab und genießt es\, mal nicht erreichbar zu sein. Dies erhöht selbstverständlich die Erholung um ein Vielfaches. Wenn Du dies vorab ankündigst\, oder als Kompromiss nur einmal am Abend für 30 min erreichbar bist\, dann muss dies von Deinem Umfeld auch akzeptiert werden. \n\n\n\nDu kannst in mein Auto steigen und mit mir und unserer kleinen Gruppe in einem der Seen schwimmen gehen oder einfach nur am Ufer liegen und den Anblick genießen. Ich fahre Dich hin und Du genießt einfach. \n\n\n\nDu kommst mit zu einem Bummel durch eine Kleinstadt\, sitzt in einem Straßencafé und musst Dich um nichts kümmern.  \n\n\n\nDu bekommst nach einem ausführlichen gemütlichen Frühstück einen Platz im Garten: eine Hängematte\, eine Hollywoodschaukel oder einen Sitzplatz mit Liegestuhl. Dort bleibst Du einfach liegen\, atmest bewusst und tief ein und aus\, beobachtest die Insekten beim emsigen Treiben und blätterst in wunderbar inspirierenden Zeitschriften\, bis ich komme und Dir sage\, dass das Mittagessen fertig ist. \n\n\n\nSo oder ähnlich verbringst Du die Tage und kommst ganz bei Dir an. \n\n\n\nDu kannst einfach nur genießen\, bewusst wahrnehmen\, was um Dich ist und musst damit nichts machen. Dadurch öffnest Du Dich automatisch und eine Inspirationswelle erfüllt Dich. Beim NIKSEN geht es um Freude an der Auszeit und darum\, Deinem Geist eine Pause zu gönnen. So wirst Du ausgeglichener\, glücklicher. Selbstverständlich wirst Du auch besser schlafen\, da aller anstrengende und zum Teil unnötige Ballast Dich nicht begleitet. \n\n\n\nVielleicht entscheidest Du Dich nach dieser Woche\, mindestens einen NIKSEN-Tag pro Monat in Deinen Alltag einzubauen. Es wird zu mehr Gelassenheit und innerer Ruhe führen und damit auch zu einem stabileren Immunsystem.  \n\n\n\nNeben den erlebten Erfahrungen der Woche erhältst Du einen Ratgeber von uns. Die Hinweise im Buch helfen Dir\, Deinem Stress zu entfliehen\, in dem Du auf Deine Bedürfnisse hörst und so mehr Ausgeglichenheit in Dein Leben lässt. \n\n\n\nNimm Dir Zeit\, Dir Zeit fürs Nichtstun zu nehmen! Es wird Zeit! \n\n\n\n\n\n\n\n\n\nZielgruppe\n\n\n\nDiese Veranstaltung eignet sich besonders gut\, wenn Du Dich in einem oder mehreren dieser Punkte wiederfindest: \n\n\n\n\nBerufliche Belastung: Menschen mit stressigen Berufen oder hohen Verantwortungen.\n\n\n\nDigital Detox Bedürfnis: Personen\, die eine Auszeit von ständiger Erreichbarkeit und digitaler Überlastung suchen.\n\n\n\nKreativität und Inspiration: Kreative Köpfe\, die neue Ideen und Inspirationen suchen.\n\n\n\nErholungsbedarf: Menschen\, die sich erschöpft fühlen und eine tiefe Erholung benötigen.\n\n\n\nEntscheidungsmüdigkeit: Personen\, die im Alltag viele Entscheidungen treffen müssen und eine Pause davon brauchen.\n\n\n\nNaturverbundenheit: Menschen\, die Ruhe und Erholung in der Natur suchen.\n\n\n\nOffenheit für neue Konzepte: Personen\, die offen sind für das Konzept des „Nichtstuns“ und bewusste Auszeiten.\n\n\n\nInnere Balance: Suchende nach mehr innerer Ruhe und Ausgeglichenheit.\n\n\n\nFreude am Genuss: Menschen\, die Freude am bewussten Genießen von Momenten und Aktivitäten haben.\n\n\n\nBewusstsein für Selbstfürsorge: Personen\, die aktiv etwas für ihr eigenes Wohlbefinden tun möchten.\n\n\n\n\n\n\n\n\n\n\nÜber die Veranstalter:innen\n\n\n\n\n\n\n\n\n\n\n\n\n\nMitgründerin des KULTURGUTLEBEN und Expertin für Wohlbefinden und Lebensfreude.  \n\n\n\n\n\n\n\n\n\n\nZurück zur Kurzbeschreibung \n\n\n\n\n\n\n\nJetzt buchen\n\n\n\n\n\n\nAnmeldungen bis 18. August 2025 über unser Kontaktformular\, per E-Mail oder per Telefon.
URL:https://kulturgutleben.de/termin/niksen-retreat-2025
LOCATION:KULTURGUTLEBEN\, Quadenschönfeld Bahnhof 1\, Möllenbeck\, Mecklenburg-Vorpommern\, 17237\, Deutschland
CATEGORIES:Retreat
ATTACH;FMTTYPE=image/jpeg:https://kulturgutleben.de/wp-content/uploads/2024/08/niksen-hero-2025.jpg
ORGANIZER;CN="Laila Mahfouz":MAILTO:post@kulturgutleben.de
END:VEVENT
END:VCALENDAR