BEGIN:VCALENDAR
VERSION:2.0
PRODID:-//KULTURGUTLEBEN - ECPv6.15.20//NONSGML v1.0//EN
CALSCALE:GREGORIAN
METHOD:PUBLISH
X-ORIGINAL-URL:https://kulturgutleben.de
X-WR-CALDESC:Veranstaltungen für KULTURGUTLEBEN
REFRESH-INTERVAL;VALUE=DURATION:PT1H
X-Robots-Tag:noindex
X-PUBLISHED-TTL:PT1H
BEGIN:VTIMEZONE
TZID:Europe/Berlin
BEGIN:DAYLIGHT
TZOFFSETFROM:+0100
TZOFFSETTO:+0200
TZNAME:CEST
DTSTART:20250330T010000
END:DAYLIGHT
BEGIN:STANDARD
TZOFFSETFROM:+0200
TZOFFSETTO:+0100
TZNAME:CET
DTSTART:20251026T010000
END:STANDARD
BEGIN:DAYLIGHT
TZOFFSETFROM:+0100
TZOFFSETTO:+0200
TZNAME:CEST
DTSTART:20260329T010000
END:DAYLIGHT
BEGIN:STANDARD
TZOFFSETFROM:+0200
TZOFFSETTO:+0100
TZNAME:CET
DTSTART:20261025T010000
END:STANDARD
BEGIN:DAYLIGHT
TZOFFSETFROM:+0100
TZOFFSETTO:+0200
TZNAME:CEST
DTSTART:20270328T010000
END:DAYLIGHT
BEGIN:STANDARD
TZOFFSETFROM:+0200
TZOFFSETTO:+0100
TZNAME:CET
DTSTART:20271031T010000
END:STANDARD
END:VTIMEZONE
BEGIN:VEVENT
DTSTART;TZID=Europe/Berlin:20260604T180000
DTEND;TZID=Europe/Berlin:20260607T120000
DTSTAMP:20260423T123323
CREATED:20250120T083228Z
LAST-MODIFIED:20260124T141708Z
UID:10000040-1780596000-1780833600@kulturgutleben.de
SUMMARY:Lailas Social Media Detox Retreat: Wildtierbeobachtungen in der Mecklenburgischen Seenplatte
DESCRIPTION:Entdecke unsere reiche Tierwelt – ein unvergessliches Wochenende in der Natur liegt vor Dir\n\n\n\nDu liebst die Natur und beobachtest gern Tiere\, aber in Deiner Umgebung finden sich nicht allzu viele Arten? Du hast noch nie einen Wiedehopf\, Kernbeisser oder eine Wacholderdrossel gesehen und möchtest dies gern nachholen? Du genießt den Anblick von Wildtieren wie Rehen\, Füchsen oder Kranichen auf Feld und Wiesen? Bei uns und in unserer Umgebung sind eine Unmenge an Tierarten zu Hause. In der Nähe des KULTURGUTLEBEN findest Du ausgedehnte Naturschutzgebiete\, Teile des Nationalpark Müritz und des UNESCO Weltnaturerbes Buchenwälder. \n\n\n\nWir bieten ein langes Wochenende voll unvergesslicher Momente\, Entspannung in der Natur und Tierbeobachtungen für alle Interessierten an.  \n\n\n\nFür eine besondere Erholung empfehlen wir unbedingt Digital Detox. Du kannst Dein Handy abgeben oder Deine SIM-Karte oder Du schaltest in den Flugmodus – so schenkst Du Dir große Entspannung! Für den Notfall kann meine Handynummer an Angehörige gegeben werden. \n\n\n\nOptional: Ferngläser leihweise verfügbar. Laila stattet Dich zusätzlich mit individuellen Tipps für eigene Erkundungen aus. \n\n\n\nMelde Dich an und erlebe ein unvergessliches Naturwochenende! \n\n\n\n\nGehe zur Detailbeschreibung unten \n\n\n\n\nWas Du erhältst\n\n\n\nFolgende Leistungen sind im Preis enthalten: \n\n\n\n\nÜbernachtungen mit Vollpension (inkl. Handtücher und Bettwäsche) \n\n\n\nEin Bestimmungsbuch der Vogelarten\n\n\n\nEine Liste der bisher am KULTURGUTLEBEN gesichteten über 70 Vogelarten\n\n\n\nZwei geführte Ausflüge in Wald und Flur\n\n\n\nEin Notizbuch für Deine eigenen Sichtungen\n\n\n\nOptional: Ferngläser mit 10x Vergrößerung\, 42mm Objektiv und Smartphone-Adapter können auf Wunsch ausgeliehen werden (bitte bei der Buchung angeben)\n\n\n\nBei schlechtem Wetter steht ein gemütlicher Seminarraum zur Verfügung\n\n\n\n\n\n\n\n\n\n\n\n\n\n\n\n\n\n\n\n\n\n\n\n\n\nAnreise\n\n\n\nDetaillierte Informationen zur Anreise findest Du unter Lage und Anreise. \n\n\n\n\n\n\n\n\n\nJetzt buchen\n\n\n\n\n\n\nAnmeldungen bis 2 Wochen vor Anreise über unser Kontaktformular\, per E-Mail oder per Telefon. \n\n\n\n\n\n\n\n\n\n\n\nZielgruppe\n\n\n\nDiese Veranstaltung eignet sich für Dich besonders gut\, wenn Du Dich in einem oder mehreren dieser Punkte wiederfindest: \n\n\n\n\nNaturliebhaber\n\n\n\nVogelbeobachtungs-Enthusiasten\n\n\n\nHobby-Ornithologen\n\n\n\nMenschen\, die neue Vogelarten entdecken möchten\n\n\n\nRuhesuchende\, die Natur genießen wollen\n\n\n\nAnfänger in der Vogelbeobachtung\n\n\n\nErfahrene Naturbeobachter\, die neue Gebiete erkunden möchten\n\n\n\nReisende\, die einzigartige Naturerlebnisse suchen\n\n\n\nGruppen und Paare mit Interesse an Outdoor-Aktivitäten\n\n\n\nMenschen\, die entspannte Wochenenden mit Gleichgesinnten schätzen\n\n\n\n\n\n\n\n\n\n\nÜber die Veranstalter:innen\n\n\n\n\n\n\n\n\n\n\n\n\n\nMitgründerin des KULTURGUTLEBEN\, Naturliebhaberin und Expertin für Wohlbefinden und Lebensfreude. \n\n\n\n\n\n\n\n\n\n\nZurück zur Kurzbeschreibung \n\n\n\n\n\n\n\nJetzt buchen\n\n\n\n\n\n\nAnmeldungen bis 2 Wochen vor Anreise über unser Kontaktformular\, per E-Mail oder per Telefon
URL:https://kulturgutleben.de/termin/wildtierbeobachtungen-2026
LOCATION:KULTURGUTLEBEN\, Quadenschönfeld Bahnhof 1\, Möllenbeck\, Mecklenburg-Vorpommern\, 17237\, Deutschland
CATEGORIES:Retreat
ATTACH;FMTTYPE=image/jpeg:https://kulturgutleben.de/wp-content/uploads/2026/01/wildtierbeobachtungen.jpg
ORGANIZER;CN="Laila Mahfouz":MAILTO:post@kulturgutleben.de
END:VEVENT
BEGIN:VEVENT
DTSTART;TZID=Europe/Berlin:20260614T180000
DTEND;TZID=Europe/Berlin:20260621T120000
DTSTAMP:20260423T123323
CREATED:20241022T133015Z
LAST-MODIFIED:20260130T054519Z
UID:10000034-1781460000-1782043200@kulturgutleben.de
SUMMARY:Lailas Social Media Detox Retreat: Mittsommer im Kräutergarten
DESCRIPTION:Natur erleben\, Wildkräuter sammeln und genießen\n\n\n\nDu möchtest Entschleunigung und eine Zeit außerhalb der digitalen Welt? Erlebe eine unvergessliche Woche voller Naturgenuss und Kräuterwissen und lerne nebenbei\, wie Du Zeiten des Digital Detox in Deinen Alltag einbauen kannst!  \n\n\n\nEntdecke gemeinsam mit unseren Expertinnen einheimische Heil- und Speisekräuter\, stelle eigene Räucherbündel und Tees her und genieße Spaziergänge in der sommerlichen Natur. Zelebriere mit gleichgesinnten Menschen in kleiner Gemeinschaft das Mittsommerfest. \n\n\n\nOb beim Sammeln\, Kochen oder bei einem erfrischenden Bad im See – diese Woche bietet Raum für Entspannung und individuelle Entdeckungen in der malerischen Umgebung des KULTURGUTLEBEN-Gartens und an besonderen Orten im Umkreis. \n\n\n\n\nGehe zur Detailbeschreibung unten \n\n\n\n\nWas Du erhältst\n\n\n\nFolgende Leistungen sind im Preis enthalten: \n\n\n\n\nÜbernachtungen mit Vollpension (mind. eine warme Mahlzeit am Tag)\n\n\n\nAlle Eintrittspreise \n\n\n\nAlle Materialien für die Herstellung der Kräuterprodukte zum Mitnehmen\n\n\n\nGemeinsame Herstellung der Produkte\, mit gedruckter Anleitung zum Mitnehmen\n\n\n\nEin Tagebuch und Tipps zur Nutzung sowie als Erinnerung an das Retreat täglich ausgedruckt die Eckdaten zum Einkleben oder Abschreiben\n\n\n\n\n\n\n\n\n\n\n\n\n\n\n\n\n\n\n\n\n\n\n\n\n\nAnreise\n\n\n\nDetaillierte Informationen zur Anreise findest Du unter Lage und Anreise. \n\n\n\n\n\n\n\n\n\nJetzt buchen\n\n\n\n\n\n\nAnmeldungen bis 4 Wochen vor Anreise über unser Kontaktformular\, per E-Mail oder per Telefon. \n\n\n\n\n\n\n\nDetailbeschreibung der Veranstaltun\n\n\n\nHerzlich lade ich zu meinem Social Media Detox Retreat: Mittsommer-Kräutergarten ein. \n\n\n\nWolltest Du schon lange wieder einmal eine Zeit ohne digitale Medien verbringen und spüren\, wie Deine Zeit wieder Dir gehört und die Tage damit viel länger werden? \n\n\n\nMöchtest Du Tipps bekommen\, wie auch Dein Leben mit weniger digitaler Zeit strukturiert werden kann? \n\n\n\nHast Du Lust\, mehr über Wildkräuter und ihre Verarbeitung zu erfahren? \n\n\n\nUnser mehrmals jährlich stattfindendes Detox-Programm steht im Juni ganz im Zeichen von Kräutern und Düften. Wir feiern gemeinsam das Mittsommerfest am Lagerfeuer und genießen alle Tage den Rausch der Farben und die Fülle der Natur. \n\n\n\nSehnst Du Dich nach Ruhe und Spaziergängen in der Natur\, nach Sammlungen von Kräutern\, die dann direkt zubereitet werden\, nach Wildtierbegegnungen? \n\n\n\nWir bieten Dir eine ganz besondere Woche der Ruhe- und Naturerlebnisse: \n\n\n\nGemeinsam entdecken wir einheimische Heil- und Speisekräuter sowie andere essbare Wildpflanzen am Wegesrand und auch viele weitere Schätze der Natur. \n\n\n\nRäucherbündel und Kräutertees werden hergestellt\, indem Du die für Dich passenden Kräuter sammelst und nach Anleitung verarbeitest. Gemeinsam wird ein Pesto aus dem hergestellt\, was uns die Natur gerade an Köstlichkeiten zur Verfügung stellt. Alle Teilnehmer können von dem gemeinsam Hergestellten etwas mit nach Hause nehmen. \n\n\n\nIn dieser Woche freuen sich unsere Kräuterexpertinnen\, Euch zu führen\, Kräuterwissen zu vermitteln und Eure Fragen zu beantworten. \n\n\n\nWir besuchen Andrea Dohmwirths Seifensiederei der regionalen Spezialitäten und bekommen einen kleinen Einblick in die Seifen-Herstellung. Alle Teilnehmer dürfen sich zwei Lieblingsseifen aussuchen und mit nach Hause nehmen. \n\n\n\n\n\n\n\nMit ihrer Seifenharfe schneidet Andrea Domwirth die frisch gesiedete Seife \n\n\n\nWir verbringen einen Tag im Natur-im-Garten-Schaugarten von Jana Schäfer\, wo wir von der Kräuterexpertin geführt werden\, gemeinsam Kräuter pflücken und kochen. Alle Teilnehmer dürfen sich zwei Kräuterpflanzen zum Mitnehmen aus dem umfangreichen\, getopften Verkaufssortiment aussuchen. \n\n\n\nJana Schäfers Schaugarten „Luplower Kräutersalat“\n\n\n\nDas Kräutererlebnishaus in Jana Schäfers Schaugarten „Luplower Kräutersalat“.\n\n\n\nAlle Tage genießen wir die Sommerzeit\, gern auch mal bei einem Bad in einem der traumhaften Seen der Umgebung. Ebenso laden die vielen lauschigen Winkel des KUTURGUTLEBEN-Gartens jederzeit zum Verweilen und Seele-baumeln-lassen ein. \n\n\n\nDas Seminarprogramm lässt dabei auch noch etwas Raum und Zeit für individuelle Freizeitgestaltung\, zum Beispiel für die Entdeckung unserer wunderschönen Region. \n\n\n\nFragt uns gerne nach Sehenswürdigkeiten und unseren Geheimtipps für Ausflüge. \n\n\n\n\n\n\n\n\n\n\n\n\n\nZielgruppe\n\n\n\nDiese Veranstaltung eignet sich für Dich besonders gut\, wenn Du Dich in einem oder mehreren dieser Punkte wiederfindest: \n\n\n\n\nNatur- und Kräuterliebhaber*innen für Verbindung zur Natur\, Wissenserweiterung über Wildkräuter\, nachhaltige und umweltfreundliche Erlebnisse — mit Interesse an Heilpflanzen und Wildkräutern\, Freude am Sammeln und Verarbeiten von natürlichen Zutaten\, Wertschätzung für ökologische und regionale Produkte.\n\n\n\nWellness- und Retreat-Suchende für Entspannung\, Stressabbau\, Regeneration\, Zeit für sich selbst — mit Offenheit für Selbstfürsorge\, Interesse an ganzheitlichem Wohlbefinden\, Affinität zu Naturheilmitteln und entspannenden Aktivitäten wie Teegenuss und ruhigen Spaziergängen.\n\n\n\nErholungssuchende Städter für Rückzug aus dem hektischen Alltag\, Naturerlebnisse\, Entspannung — mit Bedürfnis nach Ruhe\, Neugier auf alternative Lebensstile\, Wunsch nach Auszeit in einer friedlichen\, naturnahen Umgebung.\n\n\n\nKulinarische Genießer*innen für Genuss von frischen\, regionalen und selbstgemachten Produkten\, Erlernen von neuen Rezepten und Zubereitungsmethoden — mit Wertschätzung für gutes Essen\, Interesse an der Zubereitung und Verarbeitung von frischen Kräutern\, Freude an gemeinschaftlichen Kochaktivitäten und Verkostungen\n\n\n\n\n\n\n\n\n\n\nÜber die Veranstalter:innen\n\n\n\n\n\n\n\n\n\n\n\n\n\nMitgründerin des KULTURGUTLEBEN und Expertin für Wohlbefinden und Lebensfreude.  \n\n\n\n\n\n\n\n\n\n\n\n\n\n\n\nJana Schäfer ist eine Frohnatur. Ob das von den vielen Kräutern ihres riesigen Bauerngartens herrührt? Die „Kräuterfee“ weiß nämlich ganz genau\, wogegen welches Kraut gewachsen ist und vermittelt dies gern auch in ihrem Luplower Garten. \n\n\n\n\n\n\n\n\n\n\n\n\n\n\n\nMit ihrer Siederei hat Andrea Domwirth einen Ort erschaffen\, an dem sie die sinnlichen und ästhetischen Besonderheiten der Umgebung in Seife übersetzt. Dabei spielt die Verbindung zwischen flüchtigen und stimulierenden Eigenschaften von ätherischen Ölen und schweren mineralischen Elementen verschiedener Heilerden eine tragende Rolle. \n\n\n\n\n\n\n\n\n\n\nZurück zur Kurzbeschreibung \n\n\n\n\n\n\n\nJetzt buchen\n\n\n\n\n\n\nAnmeldungen bis 4 Wochen vor Anreise über unser Kontaktformular\, per E-Mail oder per Telefon.
URL:https://kulturgutleben.de/termin/mittsommer-kraeutergarten-2026
LOCATION:KULTURGUTLEBEN\, Quadenschönfeld Bahnhof 1\, Möllenbeck\, Mecklenburg-Vorpommern\, 17237\, Deutschland
CATEGORIES:Retreat
ATTACH;FMTTYPE=image/jpeg:https://kulturgutleben.de/wp-content/uploads/2026/01/mittsommer1.jpg
ORGANIZER;CN="Laila Mahfouz":MAILTO:post@kulturgutleben.de
END:VEVENT
BEGIN:VEVENT
DTSTART;TZID=Europe/Berlin:20260627T180000
DTEND;TZID=Europe/Berlin:20260704T120000
DTSTAMP:20260423T123323
CREATED:20260125T065118Z
LAST-MODIFIED:20260125T194340Z
UID:10000055-1782583200-1783166400@kulturgutleben.de
SUMMARY:Mut tut gut – Lailas Social Media Detox Retreat für mehr Selbstwirksamkeit
DESCRIPTION:Mut bedeutet\, Angst zu haben und es trotzdem zu tun.\n\n\n\nFühlst Du Dich klein im Angesicht der Welt?Neigt Dein innerer Kritiker dazu\, Dir all das aufzuzählen\, was Du (vermeintlich) nicht kannst?Treiben Dich kleine oder größere Ängste um\, die Du gerne überwinden möchtest?Dieses Retreat ist eine Einladung an Dich\, Deine Komfortzone zu verlassen\, Dich selbst zu überraschen und ein tiefes\, sicheres Gefühl der Verbundenheit zu Dir selbst und anderen zu spüren. \n\n\n\nWage den ersten Schritt \n\n\n\nUnsere Woche von Samstag bis Samstag ist keine passive Wellness-Reise. Es ist eine Transformation. Wir bieten Dir einen sicheren Rahmen\, in dem Du Herausforderungen annehmen kannst\, die Du bisher gemieden hast. Denn Mut wächst nicht im Stillstand\, sondern in der Bewegung. \n\n\n\nSag „Ja“ zum Leben – Gemeinsam wagen wir Schritte ins Ungewisse: \n\n\n\n✨ Eine Nacht unterm Sternenhimmel im Wald 🌳🦌 🌳 verbringen? Ja. 💪 Im Kletterpark Grenzen überwinden? Ja.🙋‍♀️🙋‍♂️ Soziale Interaktionen meistern\, die Überwindung kosten? Ja.🫙 Das Mut-Depot füllen: Du erlebst mutige Augenblicke\, persönliche Sternstunden und konservierst sie für später? Ja. \n\n\n\nDu entscheidest\, welche Abenteuer Du in diesem geschützten Umfeld annehmen möchtest. Wir begleiten Dich dabei. \n\n\n\nNatur als sicherer Hafen und NährstoffquelleWir nutzen die heilsame und erdende Kraft von Wäldern\, Seen und Wiesen\, die uns auffängt\, verzaubert und nährt. Ein Teil des Retreats widmet sich auch den essbaren Wildpflanzen: Wir erfahren\, dass die Natur für uns sorgt – und lernen\, ihr wieder zu vertrauen. Dies schafft ein tiefes Gefühl von Sicherheit und Verbundenheit – Du bist nie allein oder unversorgt\, wenn Du die Sprache der Natur verstehst. \n\n\n\nAll diese elementaren Erfahrungen stärken das Urvertrauen in Dich selbst und die Welt um Dich herum.  \n\n\n\n\nGehe zur Detailbeschreibung unten \n\n\n\n\nWas Du erhältst\n\n\n\nFolgende Leistungen sind im Preis enthalten: \n\n\n\n🥣 Übernachtungen mit Vollpension🍄 Alle Eintrittspreise📓 Ein Tagebuch und Tipps zur Nutzung sowie als Erinnerung an das Retreat täglich ausgedruckt die Eckdaten zum Einkleben oder Abschreiben🫙 Ein großes Glas mit Deckel und bunte Zettel zum Notieren Deiner mutigen Schritte \n\n\n\nBereit für Deinen Horizont-Sprung? \n\n\n\n\n\n\n\n\n\n\n\n\n\n\n\n\n\n\n\n\n\n\n\n\nAnreise\n\n\n\nDetaillierte Informationen zur Anreise findest Du unter Lage und Anreise. \n\n\n\n\n\n\n\n\n\nJetzt buchen\n\n\n\n\n\n\nAnmeldungen bis 4 Wochen vor Anreise über unser Kontaktformular\, per E-Mail oder per Telefon. \n\n\n\n\n\n\n\nDetailbeschreibung der Veranstaltung\n\n\n\nSammle\, was Dich wachsen lässt.Die Essenz: Dein persönliches „Erinnerungsglas“Als Herzstück unserer Woche füllst Du Dein persönliches Erinnerungsglas der Mut-Momente & Meilensteine.In Anlehnung an die im Film »Vielmachglas« gezeigte Idee\, geht es darum\, jeden gemeisterten Moment – ob groß oder klein – auf einem Zettel festzuhalten und in Deinem persönlichen Glas zu sammeln. \n\n\n\nKonserviere Deine mutigsten Augenblicke. \n\n\n\nNach dieser Woche hältst Du so die sichtbaren Beweise Deines eigenen Mutes in den Händen. Dieses Glas wird zu Deinem persönlichen Leuchtturm für den Alltag\, der Dir auch nach dem Retreat zeigt: Ich kann das. \n\n\n\nDu wirst staunen\, wie viel Mut bereits in Dir wohnt – und wie sichtbar er wird\, wenn Du ihn sammelst. \n\n\n\nWann immer Du Dich später mutlos fühlst\, kannst Du Dein Glas öffnen – und Dich erinnern\, was Du alles schon gewagt hast. Es ist ein lebendiger Schatz\, den Du weiter füllen kannst. \n\n\n\nDein Ziel: Ankommen bei Dir selbstAm Ende dieser Intensivwoche geht es nicht darum\, die furchtloseste Person der Welt zu sein. Es geht darum\, dass Du Dich mit Dir selbst sicher fühlst – geerdet\, selbstbewusst und in der Lage\, auch im Miteinander mit anderen Menschen Deinen Platz zu finden und einzunehmen. \n\n\n\n\n\n\n\nBitte bring Folgendes zu Deinem Retreat mit:🍄 Badebekleidung (es ist nicht erforderlich\, dass Du schwimmen kannst) und ein Badehandtuch für draußen🌳 festes Schuhwerk\, lange Hosen und mindestens ein langärmeliges Oberteil\, das an den Ärmelbündchen eng anliegt🍂 Schlafsack und Isomatte \n\n\n\n\nWarum „Social Media Detox Retreat“? \n\n\n\nAlle Retreats unter dem Namen Lailas Social Media Detox Retreat laden Dich ein\, für eine Weile aus der digitalen Welt auszusteigen – nicht aus Ablehnung\, sondern aus Liebe zum echten Leben. In einer Zeit\, in der wir ständig erreichbar sind und uns oft über Bildschirme begegnen\, vergessen wir leicht\, wie kraftvoll und nährend reale Erfahrungen sind. Dieses Retreat schenkt Dir Raum für lebendige Augenblicke: Begegnungen von Herz zu Herz\, Abenteuer in der Natur\, Stille\, echtes Lachen\, das nicht dokumentiert werden muss. Du brauchst hier keine Likes\, kein Scrollen\, keine Filter – nur Dich selbst. Denn das\, was Du hier erlebst\, wird nicht nur Teil Deiner Erinnerung\, sondern Teil von Dir. Leuchtend. Echt. Unvergesslich.Unsere Retreats laden Dich ein\, wieder eins zu werden mit dem\, was jenseits der Bildschirme liegt: der Duft von feuchtem Waldboden\, das Glitzern eines Sees im Morgenlicht\, das Rascheln der Blätter über Dir. Die digitale Welt mag laut sein – doch hier hörst Du Dich selbst wieder. Wenn Du offline gehst\, öffnet sich Raum für echte Verbundenheit: mit Dir\, mit der Natur\, mit anderen Menschen.Hinweis:Alle Retreat-Formate unter Lailas Social Media Detox Retreat finden bereits ab einer einzigen Anmeldung statt. Du musst also nicht warten\, ob genug andere mitkommen – Du bist genug. \n\n\n\n\n\n\n\n\n\n\n\n\n\n\nZielgruppe\n\n\n\nDiese Veranstaltung eignet sich für Dich besonders gut\, wenn Du Dich in einem oder mehreren dieser Punkte wiederfindest: \n\n\n\n\nMenschen in Umbruchsphasenfür Reflexion\, Neuorientierung und Stärkung der Selbstwirksamkeit – mit Bereitschaft\, sich eigenen Ängsten oder Blockaden zuzuwenden\, mit Wunsch nach Klarheit und innerer Ausrichtung\, mit Interesse an Selbsterfahrung in geschütztem Rahmen.\n\n\n\nNaturverbundene Persönlichkeitenfür tiefe Verbindung zur Natur als Kraftquelle – mit Freude an Wald\, Wasser und Wildpflanzen\, Interesse an Erdung\, Naturgängen und einfachem Draußensein\, mit Offenheit für Stille\, Naturbeobachtung und Selbstwahrnehmung im Freien.\n\n\n\nMenschen mit Mut zum Wachstumfür bewusste Schritte aus der Komfortzone – mit dem Wunsch\, neue Erfahrungen zu machen\, sich selbst herauszufordern\, Grenzen achtsam zu verschieben und den eigenen Handlungsspielraum zu erweitern.\n\n\n\nSozial Überforderte und Beziehungssensiblefür sichere Begegnungen\, wertschätzende Kommunikation und stille Gemeinschaft – mit Sehnsucht nach ehrlichen Gesprächen\, authentischem Miteinander und Raum für Nähe ohne Druck.\n\n\n\nDigital Ermüdetefür temporären Rückzug aus digitalen Strukturen – mit dem Bedürfnis nach Offline-Zeit\, bewusster Entschleunigung und echter Präsenz im Hier und Jetzt\, ohne Ablenkung durch Social Media oder ständige Erreichbarkeit.\n\n\n\n\n\n\n\n\n\n\nÜber die Veranstalter:innen\n\n\n\n\n\n\n\n\n\n\n\n\n\nMitgründerin von KULTURGUTLEBEN. Begleitet Menschen mit feinem Gespür\, herzlicher Präsenz und einem tiefen Verständnis für echte Lebensfreude auf dem Weg zu mehr Naturverbundenheit\, Wohlbefinden und innerer Balance. \n\n\n\n\n\n\n\n\n\n\n\n\n\n\n\nMitgründer von KULTURGUTLEBEN. Schafft als tiefgründiger Denker\, inspirierender Gesprächspartner und liebevoller Gastgeber Retreats\, die Mut machen\, Klarheit schenken und Veränderung von innen heraus ermöglichen. \n\n\n\n\n\n\n\n\n\n\nZurück zur Kurzbeschreibung \n\n\n\n\n\n\n\nJetzt buchen\n\n\n\n\n\n\nAnmeldungen bis 4 Wochen vor Anreise über unser Kontaktformular\, per E-Mail oder per Telefon.
URL:https://kulturgutleben.de/termin/mut-tut-gut-2026
LOCATION:KULTURGUTLEBEN\, Quadenschönfeld Bahnhof 1\, Möllenbeck\, Mecklenburg-Vorpommern\, 17237\, Deutschland
CATEGORIES:Retreat
ATTACH;FMTTYPE=image/jpeg:https://kulturgutleben.de/wp-content/uploads/2026/01/mut-tut-gut-klettern-2026.jpg
ORGANIZER;CN="Laila Mahfouz":MAILTO:post@kulturgutleben.de
END:VEVENT
END:VCALENDAR